BEGIN:VCALENDAR
VERSION:2.0
PRODID:-//prasanjivfoundation.com - ECPv6.15.20//NONSGML v1.0//EN
CALSCALE:GREGORIAN
METHOD:PUBLISH
X-WR-CALNAME:prasanjivfoundation.com
X-ORIGINAL-URL:https://prasanjivfoundation.com
X-WR-CALDESC:Events for prasanjivfoundation.com
REFRESH-INTERVAL;VALUE=DURATION:PT1H
X-Robots-Tag:noindex
X-PUBLISHED-TTL:PT1H
BEGIN:VTIMEZONE
TZID:UTC
BEGIN:STANDARD
TZOFFSETFROM:+0000
TZOFFSETTO:+0000
TZNAME:UTC
DTSTART:20240101T000000
END:STANDARD
END:VTIMEZONE
BEGIN:VEVENT
DTSTART;TZID=UTC:20251211T080000
DTEND;TZID=UTC:20251211T170000
DTSTAMP:20260423T203550
CREATED:20241211T145903Z
LAST-MODIFIED:20241211T145903Z
UID:386-1765440000-1765472400@prasanjivfoundation.com
SUMMARY:Charities working in high impact causes to word
DESCRIPTION:Sed ut perspiciatis unde omnis iste natus error sit voluptatem accusantium doloremque laudantium\, totam rem aperiam\, eaque ipsa quae ab illo. \nSed ut perspiciatis unde omnis iste natus error sit voluptatem accusantium doloremque laudantium\, totam rem aperiam\, eaque ipsa quae ab illo inventore veritatis et quasi architecto beatae vitae dicta sunt explicabo. Nemo enim ipsam voluptatem quia voluptas sit aspernatur aut odit aut fugit\, sed quia consequuntur magni dolores eos qui ratione voluptatem sequi nesciunt.
URL:https://prasanjivfoundation.com/event/charities-working-in-high-impact-causes-to-word/
LOCATION:New York\, 8 King Street\, Queens\, United States
CATEGORIES:Education
ATTACH;FMTTYPE=image/jpeg:https://prasanjivfoundation.com/wp-content/uploads/2025/05/campaign-01.jpg
ORGANIZER;CN="Gary Jones":MAILTO:contact@example.com
END:VEVENT
BEGIN:VEVENT
DTSTART;TZID=UTC:20251211T080000
DTEND;TZID=UTC:20251211T170000
DTSTAMP:20260423T203550
CREATED:20241211T145836Z
LAST-MODIFIED:20241211T145836Z
UID:385-1765440000-1765472400@prasanjivfoundation.com
SUMMARY:Help make learning possible for all students
DESCRIPTION:Sed ut perspiciatis unde omnis iste natus error sit voluptatem accusantium doloremque laudantium\, totam rem aperiam\, eaque ipsa quae ab illo. \nSed ut perspiciatis unde omnis iste natus error sit voluptatem accusantium doloremque laudantium\, totam rem aperiam\, eaque ipsa quae ab illo inventore veritatis et quasi architecto beatae vitae dicta sunt explicabo. Nemo enim ipsam voluptatem quia voluptas sit aspernatur aut odit aut fugit\, sed quia consequuntur magni dolores eos qui ratione voluptatem sequi nesciunt.
URL:https://prasanjivfoundation.com/event/help-make-learning-possible-for-all-students/
LOCATION:New York\, 8 King Street\, Queens\, United States
CATEGORIES:Education
ATTACH;FMTTYPE=image/jpeg:https://prasanjivfoundation.com/wp-content/uploads/2025/05/campaign-09.jpg
ORGANIZER;CN="Gary Jones":MAILTO:contact@example.com
END:VEVENT
BEGIN:VEVENT
DTSTART;TZID=UTC:20251211T080000
DTEND;TZID=UTC:20251211T170000
DTSTAMP:20260423T203550
CREATED:20241211T145804Z
LAST-MODIFIED:20241211T145804Z
UID:384-1765440000-1765472400@prasanjivfoundation.com
SUMMARY:Begin with the charity event planning basics
DESCRIPTION:Sed ut perspiciatis unde omnis iste natus error sit voluptatem accusantium doloremque laudantium\, totam rem aperiam\, eaque ipsa quae ab illo. \nSed ut perspiciatis unde omnis iste natus error sit voluptatem accusantium doloremque laudantium\, totam rem aperiam\, eaque ipsa quae ab illo inventore veritatis et quasi architecto beatae vitae dicta sunt explicabo. Nemo enim ipsam voluptatem quia voluptas sit aspernatur aut odit aut fugit\, sed quia consequuntur magni dolores eos qui ratione voluptatem sequi nesciunt.
URL:https://prasanjivfoundation.com/event/begin-with-the-charity-event-planning-basics/
LOCATION:New York\, 8 King Street\, Queens\, United States
CATEGORIES:Charity
ATTACH;FMTTYPE=image/jpeg:https://prasanjivfoundation.com/wp-content/uploads/2025/05/campaign-02.jpg
ORGANIZER;CN="Gary Jones":MAILTO:contact@example.com
END:VEVENT
BEGIN:VEVENT
DTSTART;TZID=UTC:20251211T080000
DTEND;TZID=UTC:20251211T170000
DTSTAMP:20260423T203550
CREATED:20241211T145733Z
LAST-MODIFIED:20241211T145733Z
UID:383-1765440000-1765472400@prasanjivfoundation.com
SUMMARY:Explore charity event ideas for fundraising
DESCRIPTION:Sed ut perspiciatis unde omnis iste natus error sit voluptatem accusantium doloremque laudantium\, totam rem aperiam\, eaque ipsa quae ab illo. \nSed ut perspiciatis unde omnis iste natus error sit voluptatem accusantium doloremque laudantium\, totam rem aperiam\, eaque ipsa quae ab illo inventore veritatis et quasi architecto beatae vitae dicta sunt explicabo. Nemo enim ipsam voluptatem quia voluptas sit aspernatur aut odit aut fugit\, sed quia consequuntur magni dolores eos qui ratione voluptatem sequi nesciunt.
URL:https://prasanjivfoundation.com/event/explore-charity-event-ideas-for-fundraising/
LOCATION:New York\, 8 King Street\, Queens\, United States
CATEGORIES:Education
ATTACH;FMTTYPE=image/jpeg:https://prasanjivfoundation.com/wp-content/uploads/2025/05/campaign-04.jpg
ORGANIZER;CN="Gary Jones":MAILTO:contact@example.com
END:VEVENT
BEGIN:VEVENT
DTSTART;TZID=UTC:20251211T080000
DTEND;TZID=UTC:20251211T170000
DTSTAMP:20260423T203550
CREATED:20241211T145653Z
LAST-MODIFIED:20241211T145653Z
UID:382-1765440000-1765472400@prasanjivfoundation.com
SUMMARY:Fuel fundraising with better events for the word
DESCRIPTION:Sed ut perspiciatis unde omnis iste natus error sit voluptatem accusantium doloremque laudantium\, totam rem aperiam\, eaque ipsa quae ab illo. \nSed ut perspiciatis unde omnis iste natus error sit voluptatem accusantium doloremque laudantium\, totam rem aperiam\, eaque ipsa quae ab illo inventore veritatis et quasi architecto beatae vitae dicta sunt explicabo. Nemo enim ipsam voluptatem quia voluptas sit aspernatur aut odit aut fugit\, sed quia consequuntur magni dolores eos qui ratione voluptatem sequi nesciunt.
URL:https://prasanjivfoundation.com/event/fuel-fundraising-with-better-events-for-the-word/
LOCATION:New York\, 8 King Street\, Queens\, United States
CATEGORIES:Charity
ATTACH;FMTTYPE=image/jpeg:https://prasanjivfoundation.com/wp-content/uploads/2024/12/event-1.jpg
ORGANIZER;CN="Gary Jones":MAILTO:contact@example.com
END:VEVENT
END:VCALENDAR